BEGIN:VCALENDAR
VERSION:2.0
PRODID:-//Ketteler Hof - ECPv6.15.20//NONSGML v1.0//EN
CALSCALE:GREGORIAN
METHOD:PUBLISH
X-WR-CALNAME:Ketteler Hof
X-ORIGINAL-URL:https://www.kettelerhof.de
X-WR-CALDESC:Veranstaltungen für Ketteler Hof
REFRESH-INTERVAL;VALUE=DURATION:PT1H
X-Robots-Tag:noindex
X-PUBLISHED-TTL:PT1H
BEGIN:VTIMEZONE
TZID:Europe/Berlin
BEGIN:DAYLIGHT
TZOFFSETFROM:+0100
TZOFFSETTO:+0200
TZNAME:CEST
DTSTART:20230326T010000
END:DAYLIGHT
BEGIN:STANDARD
TZOFFSETFROM:+0200
TZOFFSETTO:+0100
TZNAME:CET
DTSTART:20231029T010000
END:STANDARD
BEGIN:DAYLIGHT
TZOFFSETFROM:+0100
TZOFFSETTO:+0200
TZNAME:CEST
DTSTART:20240331T010000
END:DAYLIGHT
BEGIN:STANDARD
TZOFFSETFROM:+0200
TZOFFSETTO:+0100
TZNAME:CET
DTSTART:20241027T010000
END:STANDARD
BEGIN:DAYLIGHT
TZOFFSETFROM:+0100
TZOFFSETTO:+0200
TZNAME:CEST
DTSTART:20250330T010000
END:DAYLIGHT
BEGIN:STANDARD
TZOFFSETFROM:+0200
TZOFFSETTO:+0100
TZNAME:CET
DTSTART:20251026T010000
END:STANDARD
END:VTIMEZONE
BEGIN:VEVENT
DTSTART;TZID=Europe/Berlin:20240518T090000
DTEND;TZID=Europe/Berlin:20240518T180000
DTSTAMP:20260419T164547
CREATED:20241106T090433Z
LAST-MODIFIED:20241106T091328Z
UID:10004231-1716022800-1716055200@www.kettelerhof.de
SUMMARY:Sommersaison 2024
DESCRIPTION:Besuche uns im Ketteler Hof!\nIn der Sommersaison haben wir täglich von 9 bis 18:00 Uhr für dich geöffnet. Die Indoor Spielhalle öffnet um 10 Uhr\, bei schlechtem Wetter bereits um 9 Uhr. \n  \n  \nZum Ticketshop
URL:https://www.kettelerhof.de/oeffnungszeiten/sommer-2024/2024-05-18/
LOCATION:Ketteler Hof\, Rekener Straße 234\, 45721 Haltern am See / Lavesum\, Deutschland
ATTACH;FMTTYPE=image/png:https://www.kettelerhof.de/wp-content/uploads/2023/12/geoeffnet-sommer.png
END:VEVENT
END:VCALENDAR